BEGIN:VCALENDAR
VERSION:2.0
PRODID:-//ChamberMaster//Event Calendar 2.0//EN
METHOD:PUBLISH
X-PUBLISHED-TTL:P3D
REFRESH-INTERVAL:P3D
CALSCALE:GREGORIAN
BEGIN:VEVENT
DTSTART:20200122T175000Z
DTEND:20200122T190000Z
X-MICROSOFT-CDO-ALLDAYEVENT:FALSE
SUMMARY:Lunch and Learn: Protect Small Business from Hackers
DESCRIPTION:Mark is the founding Principal of the Information Security Services Group at CLA.  He has over 30 years' experience in auditing and technology consulting.  In this position\, he has actively led many IT audits and security assessments for clients in a range of industries and with a diversity of operating environments.  He leads a team of technology and industry specialists in an efficient approach to provide security analyses that are balanced with business needs.  Information security assessments include: \n\n	Network penetration services.\n	Internal network security assessments.\n	Incident response and electronic forensics services.\n	IT audit\n	SOC 1 and SOC 2\n	Information security policies and procedures assessment / consulting.\n	PCI compliance\n	HIPAA / HiTrust
X-ALT-DESC;FMTTYPE=text/html:<span style="background: none 0% 0% / auto repeat scroll padding-box border-box transparent\; border: medium none currentcolor\; border-radius: 0px\; border-collapse: separate\; bottom: auto\; box-shadow: none\; box-sizing: content-box\; clear: none\; color: rgb(0\, 0\, 0)\; content: normal\; direction: inherit\; empty-cells: show\; font: inherit\; height: auto\; left: auto\; letter-spacing: inherit\; margin: 0px\; max-height: none\; max-width: none\; min-height: initial\; min-width: initial\; opacity: 1\; outline-offset: 0px\; outline-style: none\; outline-width: medium\; overflow: visible\; overflow-wrap: inherit\; padding: 0px\; position: static\; right: auto\; table-layout: auto\; text-align: inherit\; text-indent: inherit\; text-overflow: clip\; text-transform: inherit\; top: auto\; vertical-align: baseline\; visibility: inherit\; white-space: inherit\; width: auto\; word-break: inherit\; word-spacing: inherit\; z-index: auto\;">Mark is the founding Principal of the Information Security Services Group at CLA.&nbsp\; He has over 30 years&rsquo\; experience in auditing and technology consulting.&nbsp\; In this position\, he has actively led many IT audits and security assessments for clients in a range of industries and with a diversity of operating environments.&nbsp\; He leads a team of technology and industry specialists in an efficient approach to provide security analyses that are balanced with business needs.&nbsp\; Information security assessments include:</span><span style="border-collapse: separate\; color: inherit\; direction: inherit\; empty-cells: show\; font-family: inherit\; font-size: inherit\; font-stretch: inherit\; font-style: inherit\; font-variant: inherit\; font-weight: inherit\; letter-spacing: inherit\; line-height: 1.3\; overflow-wrap: inherit\; text-align: inherit\; text-indent: inherit\; text-transform: inherit\; visibility: inherit\; white-space: inherit\; word-break: inherit\; word-spacing: inherit\;"> </span>\n<ul style="background: none 0% 0% / auto repeat scroll padding-box border-box transparent\; border: medium none currentcolor\; border-radius: 0px\; border-collapse: separate\; bottom: auto\; box-shadow: none\; box-sizing: content-box\; clear: none\; color: inherit\; content: normal\; direction: inherit\; empty-cells: show\; float: none\; font: inherit\; height: auto\; left: auto\; letter-spacing: inherit\; list-style-image: none\; list-style-position: outside\; margin: 1em 0px\; max-height: none\; max-width: none\; min-height: initial\; min-width: initial\; opacity: 1\; outline-offset: 0px\; outline-style: none\; outline-width: medium\; overflow: visible\; overflow-wrap: inherit\; padding-right: 0px\; position: static\; right: auto\; table-layout: auto\; text-align: inherit\; text-indent: inherit\; text-overflow: clip\; text-transform: inherit\; top: auto\; vertical-align: baseline\; visibility: inherit\; white-space: inherit\; width: auto\; word-break: inherit\; word-spacing: inherit\; z-index: auto\;">\n	<li style="background: none 0% 0% / auto repeat scroll padding-box border-box transparent\; border: medium none currentcolor\; border-radius: 0px\; border-collapse: separate\; bottom: auto\; box-shadow: none\; box-sizing: content-box\; clear: none\; color: inherit\; content: normal\; direction: inherit\; empty-cells: show\; float: none\; font: inherit\; height: auto\; left: auto\; letter-spacing: inherit\; list-style: outside none disc\; margin: 0in 0in 0pt 0px\; max-height: none\; max-width: none\; min-height: initial\; min-width: initial\; opacity: 1\; outline-offset: 0px\; outline-style: none\; outline-width: medium\; overflow: visible\; overflow-wrap: inherit\; padding: 0px\; position: static\; right: auto\; table-layout: auto\; text-indent: inherit\; text-overflow: clip\; text-transform: inherit\; top: auto\; vertical-align: baseline\; visibility: inherit\; white-space: inherit\; width: auto\; word-break: inherit\; word-spacing: inherit\; z-index: auto\;"><span style="background: none 0% 0% / auto repeat scroll padding-box border-box transparent\; border: medium none currentcolor\; border-radius: 0px\; border-collapse: separate\; bottom: auto\; box-shadow: none\; box-sizing: content-box\; clear: none\; color: rgb(0\, 0\, 0)\; content: normal\; direction: inherit\; empty-cells: show\; font: inherit\; height: auto\; left: auto\; letter-spacing: inherit\; margin: 0px\; max-height: none\; max-width: none\; min-height: initial\; min-width: initial\; opacity: 1\; outline-offset: 0px\; outline-style: none\; outline-width: medium\; overflow: visible\; overflow-wrap: inherit\; padding: 0px\; position: static\; right: auto\; table-layout: auto\; text-align: inherit\; text-indent: inherit\; text-overflow: clip\; text-transform: inherit\; top: auto\; vertical-align: baseline\; visibility: inherit\; white-space: inherit\; width: auto\; word-break: inherit\; word-spacing: inherit\; z-index: auto\;">Network penetration services.</span></li>\n	<li style="background: none 0% 0% / auto repeat scroll padding-box border-box transparent\; border: medium none currentcolor\; border-radius: 0px\; border-collapse: separate\; bottom: auto\; box-shadow: none\; box-sizing: content-box\; clear: none\; color: inherit\; content: normal\; direction: inherit\; empty-cells: show\; float: none\; font: inherit\; height: auto\; left: auto\; letter-spacing: inherit\; list-style: outside none disc\; margin: 0in 0in 0pt 0px\; max-height: none\; max-width: none\; min-height: initial\; min-width: initial\; opacity: 1\; outline-offset: 0px\; outline-style: none\; outline-width: medium\; overflow: visible\; overflow-wrap: inherit\; padding: 0px\; position: static\; right: auto\; table-layout: auto\; text-indent: inherit\; text-overflow: clip\; text-transform: inherit\; top: auto\; vertical-align: baseline\; visibility: inherit\; white-space: inherit\; width: auto\; word-break: inherit\; word-spacing: inherit\; z-index: auto\;"><span style="background: none 0% 0% / auto repeat scroll padding-box border-box transparent\; border: medium none currentcolor\; border-radius: 0px\; border-collapse: separate\; bottom: auto\; box-shadow: none\; box-sizing: content-box\; clear: none\; color: rgb(0\, 0\, 0)\; content: normal\; direction: inherit\; empty-cells: show\; font: inherit\; height: auto\; left: auto\; letter-spacing: inherit\; margin: 0px\; max-height: none\; max-width: none\; min-height: initial\; min-width: initial\; opacity: 1\; outline-offset: 0px\; outline-style: none\; outline-width: medium\; overflow: visible\; overflow-wrap: inherit\; padding: 0px\; position: static\; right: auto\; table-layout: auto\; text-align: inherit\; text-indent: inherit\; text-overflow: clip\; text-transform: inherit\; top: auto\; vertical-align: baseline\; visibility: inherit\; white-space: inherit\; width: auto\; word-break: inherit\; word-spacing: inherit\; z-index: auto\;">Internal network security assessments.</span></li>\n	<li style="background: none 0% 0% / auto repeat scroll padding-box border-box transparent\; border: medium none currentcolor\; border-radius: 0px\; border-collapse: separate\; bottom: auto\; box-shadow: none\; box-sizing: content-box\; clear: none\; color: inherit\; content: normal\; direction: inherit\; empty-cells: show\; float: none\; font: inherit\; height: auto\; left: auto\; letter-spacing: inherit\; list-style: outside none disc\; margin: 0in 0in 0pt 0px\; max-height: none\; max-width: none\; min-height: initial\; min-width: initial\; opacity: 1\; outline-offset: 0px\; outline-style: none\; outline-width: medium\; overflow: visible\; overflow-wrap: inherit\; padding: 0px\; position: static\; right: auto\; table-layout: auto\; text-indent: inherit\; text-overflow: clip\; text-transform: inherit\; top: auto\; vertical-align: baseline\; visibility: inherit\; white-space: inherit\; width: auto\; word-break: inherit\; word-spacing: inherit\; z-index: auto\;"><span style="background: none 0% 0% / auto repeat scroll padding-box border-box transparent\; border: medium none currentcolor\; border-radius: 0px\; border-collapse: separate\; bottom: auto\; box-shadow: none\; box-sizing: content-box\; clear: none\; color: rgb(0\, 0\, 0)\; content: normal\; direction: inherit\; empty-cells: show\; font: inherit\; height: auto\; left: auto\; letter-spacing: inherit\; margin: 0px\; max-height: none\; max-width: none\; min-height: initial\; min-width: initial\; opacity: 1\; outline-offset: 0px\; outline-style: none\; outline-width: medium\; overflow: visible\; overflow-wrap: inherit\; padding: 0px\; position: static\; right: auto\; table-layout: auto\; text-align: inherit\; text-indent: inherit\; text-overflow: clip\; text-transform: inherit\; top: auto\; vertical-align: baseline\; visibility: inherit\; white-space: inherit\; width: auto\; word-break: inherit\; word-spacing: inherit\; z-index: auto\;">Incident response and electronic forensics services.</span></li>\n	<li style="background: none 0% 0% / auto repeat scroll padding-box border-box transparent\; border: medium none currentcolor\; border-radius: 0px\; border-collapse: separate\; bottom: auto\; box-shadow: none\; box-sizing: content-box\; clear: none\; color: inherit\; content: normal\; direction: inherit\; empty-cells: show\; float: none\; font: inherit\; height: auto\; left: auto\; letter-spacing: inherit\; list-style: outside none disc\; margin: 0in 0in 0pt 0px\; max-height: none\; max-width: none\; min-height: initial\; min-width: initial\; opacity: 1\; outline-offset: 0px\; outline-style: none\; outline-width: medium\; overflow: visible\; overflow-wrap: inherit\; padding: 0px\; position: static\; right: auto\; table-layout: auto\; text-indent: inherit\; text-overflow: clip\; text-transform: inherit\; top: auto\; vertical-align: baseline\; visibility: inherit\; white-space: inherit\; width: auto\; word-break: inherit\; word-spacing: inherit\; z-index: auto\;"><span style="background: none 0% 0% / auto repeat scroll padding-box border-box transparent\; border: medium none currentcolor\; border-radius: 0px\; border-collapse: separate\; bottom: auto\; box-shadow: none\; box-sizing: content-box\; clear: none\; color: rgb(0\, 0\, 0)\; content: normal\; direction: inherit\; empty-cells: show\; font: inherit\; height: auto\; left: auto\; letter-spacing: inherit\; margin: 0px\; max-height: none\; max-width: none\; min-height: initial\; min-width: initial\; opacity: 1\; outline-offset: 0px\; outline-style: none\; outline-width: medium\; overflow: visible\; overflow-wrap: inherit\; padding: 0px\; position: static\; right: auto\; table-layout: auto\; text-align: inherit\; text-indent: inherit\; text-overflow: clip\; text-transform: inherit\; top: auto\; vertical-align: baseline\; visibility: inherit\; white-space: inherit\; width: auto\; word-break: inherit\; word-spacing: inherit\; z-index: auto\;">IT audit</span></li>\n	<li style="background: none 0% 0% / auto repeat scroll padding-box border-box transparent\; border: medium none currentcolor\; border-radius: 0px\; border-collapse: separate\; bottom: auto\; box-shadow: none\; box-sizing: content-box\; clear: none\; color: inherit\; content: normal\; direction: inherit\; empty-cells: show\; float: none\; font: inherit\; height: auto\; left: auto\; letter-spacing: inherit\; list-style: outside none disc\; margin: 0in 0in 0pt 0px\; max-height: none\; max-width: none\; min-height: initial\; min-width: initial\; opacity: 1\; outline-offset: 0px\; outline-style: none\; outline-width: medium\; overflow: visible\; overflow-wrap: inherit\; padding: 0px\; position: static\; right: auto\; table-layout: auto\; text-indent: inherit\; text-overflow: clip\; text-transform: inherit\; top: auto\; vertical-align: baseline\; visibility: inherit\; white-space: inherit\; width: auto\; word-break: inherit\; word-spacing: inherit\; z-index: auto\;"><span style="background: none 0% 0% / auto repeat scroll padding-box border-box transparent\; border: medium none currentcolor\; border-radius: 0px\; border-collapse: separate\; bottom: auto\; box-shadow: none\; box-sizing: content-box\; clear: none\; color: rgb(0\, 0\, 0)\; content: normal\; direction: inherit\; empty-cells: show\; font: inherit\; height: auto\; left: auto\; letter-spacing: inherit\; margin: 0px\; max-height: none\; max-width: none\; min-height: initial\; min-width: initial\; opacity: 1\; outline-offset: 0px\; outline-style: none\; outline-width: medium\; overflow: visible\; overflow-wrap: inherit\; padding: 0px\; position: static\; right: auto\; table-layout: auto\; text-align: inherit\; text-indent: inherit\; text-overflow: clip\; text-transform: inherit\; top: auto\; vertical-align: baseline\; visibility: inherit\; white-space: inherit\; width: auto\; word-break: inherit\; word-spacing: inherit\; z-index: auto\;">SOC 1 and SOC 2</span></li>\n	<li style="background: none 0% 0% / auto repeat scroll padding-box border-box transparent\; border: medium none currentcolor\; border-radius: 0px\; border-collapse: separate\; bottom: auto\; box-shadow: none\; box-sizing: content-box\; clear: none\; color: inherit\; content: normal\; direction: inherit\; empty-cells: show\; float: none\; font: inherit\; height: auto\; left: auto\; letter-spacing: inherit\; list-style: outside none disc\; margin: 0in 0in 0pt 0px\; max-height: none\; max-width: none\; min-height: initial\; min-width: initial\; opacity: 1\; outline-offset: 0px\; outline-style: none\; outline-width: medium\; overflow: visible\; overflow-wrap: inherit\; padding: 0px\; position: static\; right: auto\; table-layout: auto\; text-indent: inherit\; text-overflow: clip\; text-transform: inherit\; top: auto\; vertical-align: baseline\; visibility: inherit\; white-space: inherit\; width: auto\; word-break: inherit\; word-spacing: inherit\; z-index: auto\;"><span style="background: none 0% 0% / auto repeat scroll padding-box border-box transparent\; border: medium none currentcolor\; border-radius: 0px\; border-collapse: separate\; bottom: auto\; box-shadow: none\; box-sizing: content-box\; clear: none\; color: rgb(0\, 0\, 0)\; content: normal\; direction: inherit\; empty-cells: show\; font: inherit\; height: auto\; left: auto\; letter-spacing: inherit\; margin: 0px\; max-height: none\; max-width: none\; min-height: initial\; min-width: initial\; opacity: 1\; outline-offset: 0px\; outline-style: none\; outline-width: medium\; overflow: visible\; overflow-wrap: inherit\; padding: 0px\; position: static\; right: auto\; table-layout: auto\; text-align: inherit\; text-indent: inherit\; text-overflow: clip\; text-transform: inherit\; top: auto\; vertical-align: baseline\; visibility: inherit\; white-space: inherit\; width: auto\; word-break: inherit\; word-spacing: inherit\; z-index: auto\;">Information security policies and procedures assessment / consulting.</span></li>\n	<li style="background: none 0% 0% / auto repeat scroll padding-box border-box transparent\; border: medium none currentcolor\; border-radius: 0px\; border-collapse: separate\; bottom: auto\; box-shadow: none\; box-sizing: content-box\; clear: none\; color: inherit\; content: normal\; direction: inherit\; empty-cells: show\; float: none\; font: inherit\; height: auto\; left: auto\; letter-spacing: inherit\; list-style: outside none disc\; margin: 0in 0in 0pt 0px\; max-height: none\; max-width: none\; min-height: initial\; min-width: initial\; opacity: 1\; outline-offset: 0px\; outline-style: none\; outline-width: medium\; overflow: visible\; overflow-wrap: inherit\; padding: 0px\; position: static\; right: auto\; table-layout: auto\; text-indent: inherit\; text-overflow: clip\; text-transform: inherit\; top: auto\; vertical-align: baseline\; visibility: inherit\; white-space: inherit\; width: auto\; word-break: inherit\; word-spacing: inherit\; z-index: auto\;"><span style="background: none 0% 0% / auto repeat scroll padding-box border-box transparent\; border: medium none currentcolor\; border-radius: 0px\; border-collapse: separate\; bottom: auto\; box-shadow: none\; box-sizing: content-box\; clear: none\; color: rgb(0\, 0\, 0)\; content: normal\; direction: inherit\; empty-cells: show\; font: inherit\; height: auto\; left: auto\; letter-spacing: inherit\; margin: 0px\; max-height: none\; max-width: none\; min-height: initial\; min-width: initial\; opacity: 1\; outline-offset: 0px\; outline-style: none\; outline-width: medium\; overflow: visible\; overflow-wrap: inherit\; padding: 0px\; position: static\; right: auto\; table-layout: auto\; text-align: inherit\; text-indent: inherit\; text-overflow: clip\; text-transform: inherit\; top: auto\; vertical-align: baseline\; visibility: inherit\; white-space: inherit\; width: auto\; word-break: inherit\; word-spacing: inherit\; z-index: auto\;">PCI compliance</span></li>\n	<li style="background: none 0% 0% / auto repeat scroll padding-box border-box transparent\; border: medium none currentcolor\; border-radius: 0px\; border-collapse: separate\; bottom: auto\; box-shadow: none\; box-sizing: content-box\; clear: none\; color: inherit\; content: normal\; direction: inherit\; empty-cells: show\; float: none\; font: inherit\; height: auto\; left: auto\; letter-spacing: inherit\; list-style: outside none disc\; margin: 0in 0in 0pt 0px\; max-height: none\; max-width: none\; min-height: initial\; min-width: initial\; opacity: 1\; outline-offset: 0px\; outline-style: none\; outline-width: medium\; overflow: visible\; overflow-wrap: inherit\; padding: 0px\; position: static\; right: auto\; table-layout: auto\; text-indent: inherit\; text-overflow: clip\; text-transform: inherit\; top: auto\; vertical-align: baseline\; visibility: inherit\; white-space: inherit\; width: auto\; word-break: inherit\; word-spacing: inherit\; z-index: auto\;"><span style="background: none 0% 0% / auto repeat scroll padding-box border-box transparent\; border: medium none currentcolor\; border-radius: 0px\; border-collapse: separate\; bottom: auto\; box-shadow: none\; box-sizing: content-box\; clear: none\; color: rgb(0\, 0\, 0)\; content: normal\; direction: inherit\; empty-cells: show\; font: inherit\; height: auto\; left: auto\; letter-spacing: inherit\; margin: 0px\; max-height: none\; max-width: none\; min-height: initial\; min-width: initial\; opacity: 1\; outline-offset: 0px\; outline-style: none\; outline-width: medium\; overflow: visible\; overflow-wrap: inherit\; padding: 0px\; position: static\; right: auto\; table-layout: auto\; text-align: inherit\; text-indent: inherit\; text-overflow: clip\; text-transform: inherit\; top: auto\; vertical-align: baseline\; visibility: inherit\; white-space: inherit\; width: auto\; word-break: inherit\; word-spacing: inherit\; z-index: auto\;">HIPAA / HiTrust</span></li>\n</ul>\n
LOCATION:CLA (CliftonLarsonAllen LLP) 109 North Main Street\, Suite 200 Austin\, MN 55912
UID:e.343.3195
SEQUENCE:3
DTSTAMP:20260423T221446Z
URL:https://business.austincoc.com/events/details/lunch-and-learn-protect-small-business-from-hackers-3195
END:VEVENT

END:VCALENDAR
