BEGIN:VCALENDAR
VERSION:2.0
PRODID:-//ChamberMaster//Event Calendar 2.0//EN
METHOD:PUBLISH
X-PUBLISHED-TTL:P3D
REFRESH-INTERVAL:P3D
CALSCALE:GREGORIAN
BEGIN:VEVENT
DTSTART:20200603T170000Z
DTEND:20200603T180000Z
X-MICROSOFT-CDO-ALLDAYEVENT:FALSE
SUMMARY:Lunch & Learn: How To Keep Your Business Safe On The Network
DESCRIPTION:Lunch & Learn presentation with Mike Bowe of OnSite Computers: How To Keep Your Business Safe On The Network\n\nWhat you need to know and what can you do as a user to keep from becoming part of the problem and keep your information safe at the office and when away from the office.
X-ALT-DESC;FMTTYPE=text/html:<span style="font-size:14px\;"><span style="font-family:arial\;">Lunch &amp\; Learn presentation&nbsp\;with Mike Bowe of OnSite Computers:&nbsp\;How To Keep Your Business Safe On The Network<br />\n<span style="color: rgb(32\, 31\, 30)\;">What you need to know and what can you do as a user to keep from becoming part of the problem and keep your information safe at the office and when away from the office.</span></span></span>
LOCATION:(email with meeting room information will be sent to registered attendees the afternoon of Tuesday\, June 2nd)
UID:e.343.4027
SEQUENCE:3
DTSTAMP:20260423T150002Z
URL:https://business.austincoc.com/events/details/lunch-learn-how-to-keep-your-business-safe-on-the-network-4027
END:VEVENT

END:VCALENDAR
