BEGIN:VCALENDAR
VERSION:2.0
PRODID:-//ChamberMaster//Event Calendar 2.0//EN
METHOD:PUBLISH
X-PUBLISHED-TTL:P3D
REFRESH-INTERVAL:P3D
CALSCALE:GREGORIAN
BEGIN:VEVENT
DTSTART:20190725T163000Z
DTEND:20190725T180000Z
X-MICROSOFT-CDO-ALLDAYEVENT:FALSE
SUMMARY:Lunch & Learn: Marketing 101
DESCRIPTION:A brief\, introductory overview of marketing. Course includes understanding the marketing mix\, the 4 P's of marketing and questions to ask when developing a marketing strategy.
X-ALT-DESC;FMTTYPE=text/html:<span id="docs-internal-guid-5acb361f-7fff-5d7e-9bd7-b056d186f91d"><span style="font-size: 11pt\; font-family: &quot\;Open Sans&quot\;\, sans-serif\; color: rgb(105\, 93\, 70)\; background-color: transparent\; font-variant-numeric: normal\; font-variant-east-asian: normal\; vertical-align: baseline\; white-space: pre-wrap\;">A brief\, introductory overview of marketing. Course includes understanding the marketing mix\, the 4 P&rsquo\;s of marketing and questions to ask when developing a marketing strategy. </span></span>
LOCATION:329 North Main Street\, Town Center Conference Room
UID:e.343.3168
SEQUENCE:3
DTSTAMP:20260424T055029Z
URL:https://business.austincoc.com/events/details/lunch-learn-marketing-101-3168
END:VEVENT

END:VCALENDAR
