BEGIN:VCALENDAR
VERSION:2.0
PRODID:-//ChamberMaster//Event Calendar 2.0//EN
METHOD:PUBLISH
X-PUBLISHED-TTL:P3D
REFRESH-INTERVAL:P3D
CALSCALE:GREGORIAN
BEGIN:VEVENT
DTSTART:20190127T013000Z
DTEND:20190127T030000Z
X-MICROSOFT-CDO-ALLDAYEVENT:FALSE
SUMMARY:Luther College Nordic Choir Concert
DESCRIPTION:Chase away the chill of winter and surround yourself with beautiful music! The Luther College Nordic Choir\, under the direction of Dr. Andrew Last\, is pleased to present this evening's concert as part of its 2019 Tour. The choir will perform works including\, Rachmaninoff's "Praise the Name of the Lord"\, Jacob Handl's "Pater Noster" and "Psalm 50" by F. Melius Christiansen.
X-ALT-DESC;FMTTYPE=text/html:Chase away the chill of winter and surround yourself with beautiful music! The Luther College Nordic Choir\, under the direction of Dr. Andrew Last\, is pleased to present this evening&#39\;s concert as part of its 2019 Tour. The choir will perform works including\, Rachmaninoff&rsquo\;s &ldquo\;Praise the Name of the Lord&rdquo\;\, Jacob Handl&rsquo\;s &ldquo\;Pater Noster&rdquo\; and &ldquo\;Psalm 50&rdquo\; by F. Melius Christiansen.
LOCATION:Austin High School
UID:e.343.3149
SEQUENCE:3
DTSTAMP:20260424T141110Z
URL:https://business.austincoc.com/events/details/luther-college-nordic-choir-concert-3149
END:VEVENT

END:VCALENDAR
