BEGIN:VCALENDAR
VERSION:2.0
PRODID:-//ChamberMaster//Event Calendar 2.0//EN
METHOD:PUBLISH
X-PUBLISHED-TTL:P3D
REFRESH-INTERVAL:P3D
CALSCALE:GREGORIAN
BEGIN:VEVENT
DTSTART:20181123T230000Z
DTEND:20181124T010000Z
X-MICROSOFT-CDO-ALLDAYEVENT:FALSE
SUMMARY:Matchbox Children's Theatre Face Painting
DESCRIPTION:Come get your face painted by volunteers and Matchbox Children's Theatre - part of Christmas in the City
X-ALT-DESC;FMTTYPE=text/html:Come get your face painted by volunteers and Matchbox Children&#39\;s Theatre - part of Christmas in the City
LOCATION:Clay Cavern (lower level) at the ArtWorks Center
UID:e.343.3013
SEQUENCE:3
DTSTAMP:20260424T171519Z
URL:https://business.austincoc.com/events/details/matchbox-children-s-theatre-face-painting-3013
END:VEVENT

END:VCALENDAR
