BEGIN:VCALENDAR
VERSION:2.0
PRODID:-//ChamberMaster//Event Calendar 2.0//EN
METHOD:PUBLISH
X-PUBLISHED-TTL:P3D
REFRESH-INTERVAL:P3D
CALSCALE:GREGORIAN
BEGIN:VEVENT
DTSTART:20181123T230000Z
DTEND:20181124T010000Z
X-MICROSOFT-CDO-ALLDAYEVENT:FALSE
SUMMARY:Members Gallery Show Opening
DESCRIPTION:View artwork created by Austin Area Arts members.
X-ALT-DESC;FMTTYPE=text/html:View artwork created by Austin Area Arts members.
LOCATION:2nd floor ArtWorks Center
UID:e.343.3011
SEQUENCE:3
DTSTAMP:20260424T170058Z
URL:https://business.austincoc.com/events/details/members-gallery-show-opening-3011
END:VEVENT

END:VCALENDAR
