BEGIN:VCALENDAR
VERSION:2.0
PRODID:-//ChamberMaster//Event Calendar 2.0//EN
METHOD:PUBLISH
X-PUBLISHED-TTL:P3D
REFRESH-INTERVAL:P3D
CALSCALE:GREGORIAN
BEGIN:VEVENT
DTSTART:20180518T150000Z
DTEND:20180518T170000Z
X-MICROSOFT-CDO-ALLDAYEVENT:FALSE
SUMMARY:Mental Health Awareness Walk
DESCRIPTION:Lunch served after the walk. Free T-shirts provided. Free event\, donations welcome.
X-ALT-DESC;FMTTYPE=text/html:Lunch served after the walk. Free T-shirts provided. Free event\, donations welcome.
LOCATION:The Walk begins at Austin Manor located at 510 23rd Ave NW and will conclude at the Bridge Drop-In Center located at 108 East Oakland Ave. Shuttle service from the Bridge back to Austin Manor after the walk will be provided.
UID:e.343.2994
SEQUENCE:3
DTSTAMP:20260425T022157Z
URL:https://business.austincoc.com/events/details/mental-health-awareness-walk-2994
END:VEVENT

END:VCALENDAR
