BEGIN:VCALENDAR
VERSION:2.0
PRODID:-//ChamberMaster//Event Calendar 2.0//EN
METHOD:PUBLISH
X-PUBLISHED-TTL:P3D
REFRESH-INTERVAL:P3D
CALSCALE:GREGORIAN
BEGIN:VEVENT
DTSTART:20170712T150000Z
DTEND:20170712T170000Z
X-MICROSOFT-CDO-ALLDAYEVENT:FALSE
SUMMARY:Parent2Parent
DESCRIPTION:Let's learn from each other as we discuss healthy lifestyles and meal planning. During this conversation Austin parents will: Share ideas for promoting fitness. Gather potential resources for meal planning. Discover strategies for promoting health and wellness in your family.
X-ALT-DESC;FMTTYPE=text/html:Let&#39\;s learn from each other as we discuss healthy lifestyles and meal planning. During this conversation Austin parents will: Share ideas for promoting fitness. Gather potential resources for meal planning. Discover strategies for promoting health and wellness in your family.
LOCATION:Austin Public Library conference room
UID:e.343.2985
SEQUENCE:3
DTSTAMP:20260425T134159Z
URL:https://business.austincoc.com/events/details/parent2parent-2985
END:VEVENT

END:VCALENDAR
