BEGIN:VCALENDAR
VERSION:2.0
PRODID:-//ChamberMaster//Event Calendar 2.0//EN
METHOD:PUBLISH
X-PUBLISHED-TTL:P3D
REFRESH-INTERVAL:P3D
CALSCALE:GREGORIAN
BEGIN:VEVENT
DTSTART;VALUE=DATE:20170101
DTEND;VALUE=DATE:20170130
TRANSP:TRANSPARENT
X-MICROSOFT-CDO-ALLDAYEVENT:TRUE
SUMMARY:PayItForward Entry Submission 2017
DESCRIPTION:Pay It Forward 2017 - 4th Annual #payitforward2017\n\nI hope you are all as excited as I am to get this going once again! I will share the rules again because they must be followed but I will write the basics in here for what you need to know!!\n\nSubmit an essay (length is really up to you - make sure its enough to tell the story) about whom you are nominating\, why and tell us about their family dynamics. You must submit 1 photo that will show the bathroom in its entirety or 2+ if necessary so we can "get the picture".\n\n\n2 ways to submit and ONLY 2. Will NOT take Facebook messages as an entry. Email your entry to: payitforward@tngplumbing.com OR good old snail mail: T 'N G Plumbing\, Pay it forward\, 64456 230th St.\, Dexter\, MN 55926. Entries will be accepted through January 29th\, 2017. (Postmarked by this date is acceptable.)\n\nA brief overview of the rules on submission: Must be in Mower County\, Must be owner occupied (No rentals)\, Must be able to show proof of home ownership\, Must have valid ID with picture. This is just a basic rule overview\, the lengthy part can be seen in the Contest Rules.\n\nThe bathroom's renovation will be in the complete hands of T 'N G Plumbing and all its fabulous partners that have joined.\n\nPlease keep in mind - this is not an ugly bathroom contest\, its about a family/person in NEED of it. Also meaning this is based on financial need.\n\nIt's so amazing to have such a crew! Healing hearts one home at a time!!\n\nOk - lets get this started!\n\nPlease share this to get it around!\n\nThanks once again to the Pay It Forward Crew!\n\n*********************************************\n\nIf you or anyone you know would like to help - please give us a call!
X-ALT-DESC;FMTTYPE=text/html:<p>Pay It Forward 2017 - 4th Annual&nbsp\;<a class="_58cn" href="https://www.facebook.com/hashtag/payitforward2017?source=feed_text&amp\;story_id=1364697613549728" style="color: rgb(54\, 88\, 153)\; cursor: pointer\; text-decoration: none\; font-family: inherit\;"><span style="font-family:inherit"><span style="color:rgb(66\, 103\, 178)\; font-family:inherit">#</span><span style="font-family:inherit">payitforward2017</span></span></a></p>\n\n<p>I hope you are all as excited as I am to get this going once again! I will share the rules again because they must be followed but I will write the basics in here for what you need to know!!</p>\n\n<p>Submit an essay (length is really up to you - make sure its enough to tell the story) about whom you are nominating\, why and tell us about their family dynamics. You must submit 1 photo that will show the bathroom in its entirety or 2+ i<span style="font-family:inherit">f necessary so we can &quot\;get the picture&quot\;.</span></p>\n\n<div>\n<p>2 ways to submit and ONLY 2. Will NOT take Facebook messages as an entry. Email your entry to: payitforward@tngplumbing.com OR good old snail mail: T &#39\;N G Plumbing\, Pay it forward\, 64456 230th St.\, Dexter\, MN 55926. Entries will be accepted through January 29th\, 2017. (Postmarked by this date is acceptable.)</p>\n\n<p>A brief overview of the rules on submission: Must be in Mower County\, Must be owner occupied (No rentals)\, Must be able to show proof of home ownership\, Must have valid ID with picture. This is just a basic rule overview\, the lengthy part can be seen in the Contest Rules.</p>\n\n<p>The bathroom&#39\;s renovation will be in the complete hands of T &#39\;N G Plumbing and all its fabulous partners that have joined.</p>\n\n<p>Please keep in mind - this is not an ugly bathroom contest\, its about a family/person in NEED of it. Also meaning this is based on financial need.</p>\n\n<p>It&#39\;s so amazing to have such a crew! Healing hearts one home at a time!!</p>\n\n<p>Ok - lets get this started!</p>\n\n<p>Please share this to get it around!</p>\n\n<p>Thanks once again to the Pay It Forward Crew!</p>\n\n<p>*********************************************</p>\n\n<p>If you or anyone you know would like to help - please give us a call!</p>\n</div>\n
LOCATION:Mower County
UID:e.343.2850
SEQUENCE:3
DTSTAMP:20260425T214517Z
URL:https://business.austincoc.com/events/details/payitforward-entry-submission-2017-2850
END:VEVENT

END:VCALENDAR
