BEGIN:VCALENDAR
VERSION:2.0
PRODID:-//ChamberMaster//Event Calendar 2.0//EN
METHOD:PUBLISH
X-PUBLISHED-TTL:P3D
REFRESH-INTERVAL:P3D
CALSCALE:GREGORIAN
BEGIN:VEVENT
DTSTART:20230627T160000Z
DTEND:20230627T163000Z
X-MICROSOFT-CDO-ALLDAYEVENT:FALSE
SUMMARY:Ribbon Cutting - Jeni Weldon Coaching
DESCRIPTION:
X-ALT-DESC;FMTTYPE=text/html:
LOCATION:Town Center 329 N. Main Austin MN 55912
UID:e.343.5164
SEQUENCE:3
DTSTAMP:20260420T211042Z
URL:https://business.austincoc.com/events/details/ribbon-cutting-jeni-weldon-coaching-5164
END:VEVENT

END:VCALENDAR
