BEGIN:VCALENDAR
VERSION:2.0
PRODID:-//ChamberMaster//Event Calendar 2.0//EN
METHOD:PUBLISH
X-PUBLISHED-TTL:P3D
REFRESH-INTERVAL:P3D
CALSCALE:GREGORIAN
BEGIN:VEVENT
DTSTART:20230711T223000Z
DTEND:20230711T233000Z
X-MICROSOFT-CDO-ALLDAYEVENT:FALSE
SUMMARY:Senior Care Financial Resources
DESCRIPTION:
X-ALT-DESC;FMTTYPE=text/html:
LOCATION:St Mark's Living - Chapel - 400 15th Ave SW
UID:e.343.5161
SEQUENCE:3
DTSTAMP:20260420T081127Z
URL:https://business.austincoc.com/events/details/senior-care-financial-resources-5161
END:VEVENT

END:VCALENDAR
