BEGIN:VCALENDAR
VERSION:2.0
PRODID:-//ChamberMaster//Event Calendar 2.0//EN
METHOD:PUBLISH
X-PUBLISHED-TTL:P3D
REFRESH-INTERVAL:P3D
CALSCALE:GREGORIAN
BEGIN:VEVENT
DTSTART:20160929T220000Z
DTEND:20160930T010000Z
X-MICROSOFT-CDO-ALLDAYEVENT:FALSE
SUMMARY:Sumner Fundraiser
DESCRIPTION:Sumner Elementary plus Godfather's Pizza equals A Brand New Play Structure The "Godfather" wants YOU to support Sumner's fundraiser to raise funds for a new piece of playground equipment Eat at the pizza buffet\, order a pizza\, or have pizza delivered
X-ALT-DESC;FMTTYPE=text/html:Sumner Elementary plus Godfather&#39\;s Pizza equals A Brand New Play Structure The &quot\;Godfather&quot\; wants YOU to support Sumner&#39\;s fundraiser to raise funds for a new piece of playground equipment Eat at the pizza buffet\, order a pizza\, or have pizza delivered
LOCATION:Godfather's Pizza Austin MN
UID:e.343.2711
SEQUENCE:3
DTSTAMP:20260426T030310Z
URL:https://business.austincoc.com/events/details/sumner-fundraiser-2711
END:VEVENT

END:VCALENDAR
