BEGIN:VCALENDAR
VERSION:2.0
PRODID:-//ChamberMaster//Event Calendar 2.0//EN
METHOD:PUBLISH
X-PUBLISHED-TTL:P3D
REFRESH-INTERVAL:P3D
CALSCALE:GREGORIAN
BEGIN:VEVENT
DTSTART:20210901T150000Z
DTEND:20210901T230000Z
X-MICROSOFT-CDO-ALLDAYEVENT:FALSE
SUMMARY:T-Mobile Ribbon Cutting - Grand Opening
DESCRIPTION:Come help T-Mobile celebrate its first year in Austin\, MN!  \n\nWe will be celebrating our Ribbon Cutting with the Austin Area Chamber and our T-Mobile Truck team
X-ALT-DESC;FMTTYPE=text/html:Come help T-Mobile celebrate its first year in Austin\, MN!&nbsp\;&nbsp\;<br />\nWe will be celebrating our Ribbon Cutting with the Austin Area Chamber and our T-Mobile Truck team
LOCATION:Austin T-Mobile 1011 18th Ave NW\, Suite 200 Austin\, MN 55912
UID:e.343.4291
SEQUENCE:3
DTSTAMP:20260422T191445Z
URL:https://business.austincoc.com/events/details/t-mobile-ribbon-cutting-grand-opening-4291
END:VEVENT

END:VCALENDAR
