BEGIN:VCALENDAR
VERSION:2.0
PRODID:-//ChamberMaster//Event Calendar 2.0//EN
METHOD:PUBLISH
X-PUBLISHED-TTL:P3D
REFRESH-INTERVAL:P3D
CALSCALE:GREGORIAN
BEGIN:VEVENT
DTSTART:20200421T230000Z
DTEND:20200422T000000Z
X-MICROSOFT-CDO-ALLDAYEVENT:FALSE
SUMMARY:Tuesday Trivia with CYP
DESCRIPTION:Join Connecting Young Professionals for Trivia
X-ALT-DESC;FMTTYPE=text/html:Join Connecting Young Professionals for Trivia
LOCATION:Zoom (email with meeting room information will be sent to registered attendees the morning of Tuesday\, April 21st)
UID:e.343.4017
SEQUENCE:3
DTSTAMP:20260423T175242Z
URL:https://business.austincoc.com/events/details/tuesday-trivia-with-cyp-4017
END:VEVENT

END:VCALENDAR
