BEGIN:VCALENDAR
VERSION:2.0
PRODID:-//ChamberMaster//Event Calendar 2.0//EN
METHOD:PUBLISH
X-PUBLISHED-TTL:P3D
REFRESH-INTERVAL:P3D
CALSCALE:GREGORIAN
BEGIN:VEVENT
DTSTART:20200505T230000Z
DTEND:20200506T000000Z
X-MICROSOFT-CDO-ALLDAYEVENT:FALSE
SUMMARY:Tuesday Trivia with CYP
DESCRIPTION:Join Connecting Young Professionals for some Star Wars Themed Trivia
X-ALT-DESC;FMTTYPE=text/html:Join Connecting Young Professionals for some Star Wars Themed Trivia
LOCATION:Zoom (email with meeting room information will be sent to registered attendees the morning of Tuesday\, May 5th)
UID:e.343.4019
SEQUENCE:3
DTSTAMP:20260423T161959Z
URL:https://business.austincoc.com/events/details/tuesday-trivia-with-cyp-4019
END:VEVENT

END:VCALENDAR
