BEGIN:VCALENDAR
VERSION:2.0
PRODID:-//ChamberMaster//Event Calendar 2.0//EN
METHOD:PUBLISH
X-PUBLISHED-TTL:P3D
REFRESH-INTERVAL:P3D
CALSCALE:GREGORIAN
BEGIN:VEVENT
DTSTART:20161112T020000Z
DTEND:20161112T023000Z
X-MICROSOFT-CDO-ALLDAYEVENT:FALSE
SUMMARY:Veterans Day Celebration
DESCRIPTION:Join Sumner Elementary students as we celebrate and honor America's Veterans. Following the ceremony there will be donuts and coffee for all Veterans and their guests.
X-ALT-DESC;FMTTYPE=text/html:Join Sumner Elementary students as we celebrate and honor America&#39\;s Veterans. Following the ceremony there will be donuts and coffee for all Veterans and their guests.
LOCATION:Sumner Elementary 805 8th Ave NW Austin MN
UID:e.343.2714
SEQUENCE:3
DTSTAMP:20260426T002624Z
URL:https://business.austincoc.com/events/details/veterans-day-celebration-2714
END:VEVENT

END:VCALENDAR
