BEGIN:VCALENDAR
VERSION:2.0
PRODID:-//ChamberMaster//Event Calendar 2.0//EN
METHOD:PUBLISH
X-PUBLISHED-TTL:P3D
REFRESH-INTERVAL:P3D
CALSCALE:GREGORIAN
BEGIN:VEVENT
DTSTART:20180512T180000Z
DTEND:20180512T210000Z
X-MICROSOFT-CDO-ALLDAYEVENT:FALSE
SUMMARY:Village Cooperative of Austin Open House
DESCRIPTION:Please join us at our upcoming Open House! We want to connect with our neighbors and let you know that we are holding a fun and informative event to show you the amenities and carefree lifestyle the Village Cooperative offers. Never before has home ownership been so easy for active adults 55+. To learn more while enjoying refreshments\, tours and good company\, join us on Saturday\, May 12th between 1 and 4pm. Don't miss out!
X-ALT-DESC;FMTTYPE=text/html:Please join us at our upcoming Open House! We want to connect with our neighbors and let you know that we are holding a fun and informative event to show you the amenities and carefree lifestyle the Village Cooperative offers. Never before has home ownership been so easy for active adults 55+. To learn more while enjoying refreshments\, tours and good company\, join us on Saturday\, May 12th between 1 and 4pm. Don&#39\;t miss out!
LOCATION:2301 10th Street NW Austin\, MN 55912 (Located behind Wal-Mart)
UID:e.343.2993
SEQUENCE:3
DTSTAMP:20260425T022856Z
URL:https://business.austincoc.com/events/details/village-cooperative-of-austin-open-house-2993
END:VEVENT

END:VCALENDAR
