BEGIN:VCALENDAR
VERSION:2.0
PRODID:-//ChamberMaster//Event Calendar 2.0//EN
METHOD:PUBLISH
X-PUBLISHED-TTL:P3D
REFRESH-INTERVAL:P3D
CALSCALE:GREGORIAN
BEGIN:VEVENT
DTSTART:20200811T220000Z
DTEND:20200811T230000Z
X-MICROSOFT-CDO-ALLDAYEVENT:FALSE
SUMMARY:Virtual Business After Hours: Mower County Fair
DESCRIPTION:Join us for a virtual Business After Hours hosted by Mower County Fair!
X-ALT-DESC;FMTTYPE=text/html:Join us for a virtual Business After Hours hosted by Mower County Fair!
LOCATION:Zoom (email with meeting room information will be sent to registered attendees the morning of Tuesday\, August 11th)
UID:e.343.4035
SEQUENCE:3
DTSTAMP:20260423T122622Z
URL:https://business.austincoc.com/events/details/virtual-business-after-hours-mower-county-fair-4035
END:VEVENT

END:VCALENDAR
