BEGIN:VCALENDAR
VERSION:2.0
PRODID:-//ChamberMaster//Event Calendar 2.0//EN
METHOD:PUBLISH
X-PUBLISHED-TTL:P3D
REFRESH-INTERVAL:P3D
CALSCALE:GREGORIAN
BEGIN:VEVENT
DTSTART:20200714T220000Z
DTEND:20200714T230000Z
X-MICROSOFT-CDO-ALLDAYEVENT:FALSE
SUMMARY:Virtual Business After Hours: Stadheim Jewelers
DESCRIPTION:Join us for a virtual Business After Hours hosted by Stadheim Jewelers!
X-ALT-DESC;FMTTYPE=text/html:Join us for a virtual Business After Hours hosted by Stadheim Jewelers!
LOCATION:Zoom (email with meeting room information will be sent to registered attendees the morning of Tuesday\, July 14th)
UID:e.343.4030
SEQUENCE:3
DTSTAMP:20260423T133153Z
URL:https://business.austincoc.com/events/details/virtual-business-after-hours-stadheim-jewelers-4030
END:VEVENT

END:VCALENDAR
