BEGIN:VCALENDAR
VERSION:2.0
PRODID:-//ChamberMaster//Event Calendar 2.0//EN
METHOD:PUBLISH
X-PUBLISHED-TTL:P3D
REFRESH-INTERVAL:P3D
CALSCALE:GREGORIAN
BEGIN:VEVENT
DTSTART:20200617T130000Z
DTEND:20200617T140000Z
X-MICROSOFT-CDO-ALLDAYEVENT:FALSE
SUMMARY:Virtual Chamber 101 with Jeanine & Wendy
DESCRIPTION:Chamber 101 will introduce you to all the opportunities available to you and your staff. This includes networking\, member advocacy\, workforce\, education and more! \n\nThis session is presented by Austin Chamber staff Jeanine Nelson and Wendy Anderson.
X-ALT-DESC;FMTTYPE=text/html:Chamber 101 will introduce you to all the opportunities available to you and your staff. This includes networking\, member advocacy\, workforce\, education and more!&nbsp\;<br />\nThis session is presented by Austin Chamber staff Jeanine Nelson and Wendy Anderson.&nbsp\;
LOCATION:Zoom Virtual Meeting (meeting information will be sent to registrants Tuesday\, June 16th)
UID:e.343.4028
SEQUENCE:3
DTSTAMP:20260423T150018Z
URL:https://business.austincoc.com/events/details/virtual-chamber-101-with-jeanine-wendy-4028
END:VEVENT

END:VCALENDAR
