BEGIN:VCALENDAR
VERSION:2.0
PRODID:-//ChamberMaster//Event Calendar 2.0//EN
METHOD:PUBLISH
X-PUBLISHED-TTL:P3D
REFRESH-INTERVAL:P3D
CALSCALE:GREGORIAN
BEGIN:VEVENT
DTSTART:20200724T123000Z
DTEND:20200724T133000Z
X-MICROSOFT-CDO-ALLDAYEVENT:FALSE
SUMMARY:Virtual Coffee & Company: Cedar River Watershed District
DESCRIPTION:Join us for a virtual Coffee & Company hosted by Cedar River Watershed District!
X-ALT-DESC;FMTTYPE=text/html:Join us for a virtual Coffee &amp\; Company hosted by Cedar River Watershed District!
LOCATION:Zoom (email with meeting room information will be sent to registered attendees the afternoon of Thursday\, July 23rd)
UID:e.343.4031
SEQUENCE:3
DTSTAMP:20260423T133010Z
URL:https://business.austincoc.com/events/details/virtual-coffee-company-cedar-river-watershed-district-4031
END:VEVENT

END:VCALENDAR
