BEGIN:VCALENDAR
VERSION:2.0
PRODID:-//ChamberMaster//Event Calendar 2.0//EN
METHOD:PUBLISH
X-PUBLISHED-TTL:P3D
REFRESH-INTERVAL:P3D
CALSCALE:GREGORIAN
BEGIN:VEVENT
DTSTART:20200925T123000Z
DTEND:20200925T133000Z
X-MICROSOFT-CDO-ALLDAYEVENT:FALSE
SUMMARY:Virtual Coffee & Company: Mayer Funeral Home
DESCRIPTION:Join us for a virtual Coffee & Company hosted by Mayer Funeral Home!
X-ALT-DESC;FMTTYPE=text/html:Join us for a virtual Coffee &amp\; Company hosted by Mayer Funeral Home!
LOCATION:Zoom (email with meeting room information will be sent to registered attendees the afternoon of Thursday\, September 24th)
UID:e.343.4041
SEQUENCE:3
DTSTAMP:20260423T111336Z
URL:https://business.austincoc.com/events/details/virtual-coffee-company-mayer-funeral-home-4041
END:VEVENT

END:VCALENDAR
