BEGIN:VCALENDAR
VERSION:2.0
PRODID:-//ChamberMaster//Event Calendar 2.0//EN
METHOD:PUBLISH
X-PUBLISHED-TTL:P3D
REFRESH-INTERVAL:P3D
CALSCALE:GREGORIAN
BEGIN:VEVENT
DTSTART:20200422T170000Z
DTEND:20200422T180000Z
X-MICROSOFT-CDO-ALLDAYEVENT:FALSE
SUMMARY:Virtual Lunch and Learn: 30 Minute Action Meeting
DESCRIPTION:Tired of online meetings that take forever\, but don't go anywhere?\n\nIntroducing the 30 Minute Action Meeting! Learn how to empower every participant\, quickly identify problems\, and come up with prioritized\, actionable solutions in half the time of a standard meeting - even while working remotely!
X-ALT-DESC;FMTTYPE=text/html:<p>Tired of online meetings that take forever\, but don&rsquo\;t go anywhere?</p>\n\n<p>Introducing the 30 Minute Action Meeting! Learn how to&nbsp\;empower every participant\, quickly identify problems\, and come up with prioritized\, actionable solutions in half the time of a standard meeting - even while working remotely!&nbsp\;</p>\n
LOCATION:Zoom
UID:e.343.4015
SEQUENCE:3
DTSTAMP:20260423T175359Z
URL:https://business.austincoc.com/events/details/virtual-lunch-and-learn-30-minute-action-meeting-4015
END:VEVENT

END:VCALENDAR
