BEGIN:VCALENDAR
VERSION:2.0
PRODID:-//ChamberMaster//Event Calendar 2.0//EN
METHOD:PUBLISH
X-PUBLISHED-TTL:P3D
REFRESH-INTERVAL:P3D
CALSCALE:GREGORIAN
BEGIN:VEVENT
DTSTART:20200520T150000Z
DTEND:20200520T160000Z
X-MICROSOFT-CDO-ALLDAYEVENT:FALSE
SUMMARY:Virtual Women's Workshop: Finding Resiliency & Relevancy in the Middle
DESCRIPTION:Women's Workshop: Finding Resiliency & Relevancy in the Middle. Learn tools to do Life and Work with greater intention\, resiliency and joy.\nSandy connects with organizations and individuals who are seeking to foster resiliency in what they do and relevancy in how they accomplish it at work and in life. She provides organizational consulting and team development through professional retreats\, workshops\, groups\, speaking platforms\, tool design and leadership coaching for individuals and organizational teams.\n\n"How we live impacts how we lead." Sandy designs spaces to pioneer and practice\, for those desiring be an authentic human being and a truly human leader.
X-ALT-DESC;FMTTYPE=text/html:<span style="color:#000000\;"><span style="font-size:14px\;"><span style="font-family:arial\;"><span class="JsGRdQ">Women&#39\;s Workshop: Finding Resiliency &amp\; Relevancy in the Middle. Learn tools to do Life and Work with greater intention\, resiliency and joy.</span></span></span></span>\n<p><span style="font-size:14px\;"><span style="font-family:arial\;">Sandy connects with organizations and individuals who are seeking to foster resiliency in what they do and relevancy in how they accomplish it&hellip\;at work and in life. She provides organizational consulting and team development through professional retreats\, workshops\, groups\, speaking platforms\, tool design and leadership coaching for individuals and organizational teams.</span></span></p>\n\n<p><span style="font-size:14px\;"><span style="font-family:arial\;">&ldquo\;How we live impacts how we lead.&rdquo\; Sandy designs spaces to pioneer and practice\, for those desiring be an authentic human being and a truly human leader.</span></span></p>\n
LOCATION:Zoom (email with meeting room information will be sent to registered attendees the afternoon of Tuesday\, May 19th)
UID:e.343.4023
SEQUENCE:3
DTSTAMP:20260423T173713Z
URL:https://business.austincoc.com/events/details/virtual-women-s-workshop-finding-resiliency-relevancy-in-the-middle-4023
END:VEVENT

END:VCALENDAR
