BEGIN:VCALENDAR
VERSION:2.0
PRODID:-//ChamberMaster//Event Calendar 2.0//EN
METHOD:PUBLISH
X-PUBLISHED-TTL:P3D
REFRESH-INTERVAL:P3D
CALSCALE:GREGORIAN
BEGIN:VEVENT
DTSTART:20210803T130000Z
DTEND:20210803T140000Z
X-MICROSOFT-CDO-ALLDAYEVENT:FALSE
SUMMARY:Voice of Business Committee
DESCRIPTION:Updates from city\, county and state.  An opportunity to discuss business concerns with fellow chamber members.
X-ALT-DESC;FMTTYPE=text/html:Updates from city\, county and state.&nbsp\; An opportunity to discuss business concerns with fellow chamber members.&nbsp\;&nbsp\;
LOCATION:Town Center Conference Room 329 N. Main St Austin\, MN
UID:e.343.4088
SEQUENCE:3
DTSTAMP:20260422T203434Z
URL:https://business.austincoc.com/events/details/voice-of-business-committee-4088
END:VEVENT

END:VCALENDAR
