BEGIN:VCALENDAR
VERSION:2.0
PRODID:-//ChamberMaster//Event Calendar 2.0//EN
METHOD:PUBLISH
X-PUBLISHED-TTL:P3D
REFRESH-INTERVAL:P3D
CALSCALE:GREGORIAN
BEGIN:VEVENT
DTSTART:20230502T230000Z
DTEND:20230503T003000Z
X-MICROSOFT-CDO-ALLDAYEVENT:FALSE
SUMMARY:Women's Event: Porch Pot Workshop
DESCRIPTION:Let's get ready for Spring with a Porch Pot Workshop!\n\nPresented by Berg's Nursery as part of the Chamber's women's programming\, we invite you to get your hands dirty on Tuesday\, May 2\, from 6-7:30 p.m. Plant your own porch pot with flowers\, vegetables or herbs. Get all your questions answered about container gardening!
X-ALT-DESC;FMTTYPE=text/html:Let&#39\;s get ready for Spring with a Porch Pot Workshop!<br />\nPresented by Berg&#39\;s Nursery as part of the Chamber&#39\;s women&#39\;s programming\, we invite you to get your hands dirty on Tuesday\, May 2\, from 6-7:30 p.m. Plant your own porch pot with flowers\, vegetables or herbs. Get all your questions answered about container gardening!
LOCATION:Berg's Nursery 904 1st Ave. SW Austin
UID:e.343.4822
SEQUENCE:3
DTSTAMP:20260421T014931Z
URL:https://business.austincoc.com/events/details/women-s-event-porch-pot-workshop-4822
END:VEVENT

END:VCALENDAR
