BEGIN:VCALENDAR
VERSION:2.0
PRODID:-//ChamberMaster//Event Calendar 2.0//EN
METHOD:PUBLISH
X-PUBLISHED-TTL:P3D
REFRESH-INTERVAL:P3D
CALSCALE:GREGORIAN
BEGIN:VEVENT
DTSTART:20220131T220000Z
DTEND:20220131T230000Z
X-MICROSOFT-CDO-ALLDAYEVENT:FALSE
SUMMARY:Women's Event: Realigned Living
DESCRIPTION:An interactive women's event that offers the space and tools to begin identifying what aligned living can be\, why it matters and explore moving from the exhausting cycle of doing more with less to doing less with greater intention. Presenter\, Sandy Anderson from Sandy Anderson Consulting and Coaching\, will show you how to align what you value with greater intention and practice in both your professional and personal calendars.
X-ALT-DESC;FMTTYPE=text/html:<span style="color:#595959\;"><span style="font-family:montserrat light\;">An interactive women&rsquo\;s event that offers the space and tools to begin identifying what aligned living can be\, why it matters and explore moving from the exhausting cycle of doing more with less to doing less with greater intention. Presenter\, Sandy Anderson from Sandy Anderson Consulting and Coaching\, will show you how to align what you value with greater intention and practice in both your professional and personal calendars. </span></span><br />\n&nbsp\;
LOCATION:Hormel Historic Home 208 4th Ave. NW
UID:e.343.4447
SEQUENCE:3
DTSTAMP:20260422T144611Z
URL:https://business.austincoc.com/events/details/women-s-event-realigned-living-4447
END:VEVENT

END:VCALENDAR
