BEGIN:VCALENDAR
VERSION:2.0
PRODID:-//ChamberMaster//Event Calendar 2.0//EN
METHOD:PUBLISH
X-PUBLISHED-TTL:P3D
REFRESH-INTERVAL:P3D
CALSCALE:GREGORIAN
BEGIN:VEVENT
DTSTART:20230208T213000Z
DTEND:20230208T230000Z
X-MICROSOFT-CDO-ALLDAYEVENT:FALSE
SUMMARY:Women's Workshop: Tools\, Your New Superpower!
DESCRIPTION:Attention all ladies! \n\n    Do you have a special project in mind that you want to complete? Or maybe you are hoping to assemble the perfect small toolbox for household projects.\n\n    In this workshop for women\, you will learn\n\n        -How to identify basic tools\, power tools\, and their uses\n\n        -How to assemble a basic toolbox\n\n        -How to handle tools safely\n\n        -Which tools are right for your specific needs\n\n    With the right tools and a little know-how\, you can finish those small projects around the house or work on your big dream project! There will also be an opportunity to get your project questions answered and purchase the toolbox right for you!\n\nSpeaker: Jess Groth\, ACE Hardware
X-ALT-DESC;FMTTYPE=text/html:<br />\n<span style="font-family:arial\;"><span style="font-size:14px\;"><span class="LrzXr">Attention all ladies! </span></span></span><br />\n&nbsp\;&nbsp\;&nbsp\;&nbsp\;<span style="font-family:arial\;"><span style="font-size:14px\;"><span class="LrzXr">Do you have a special project in mind that you want to complete? Or maybe you are hoping to assemble the perfect small toolbox for household projects.</span></span></span><br />\n&nbsp\;&nbsp\;&nbsp\;&nbsp\;<span style="font-family:arial\;"><span style="font-size:14px\;"><span class="LrzXr">In this workshop for women\, you will learn</span></span></span><br />\n&nbsp\;&nbsp\;&nbsp\;&nbsp\;&nbsp\;&nbsp\;&nbsp\;&nbsp\;<span style="font-family:arial\;"><span style="font-size:14px\;"><span class="LrzXr">-How to identify basic tools\, power tools\, and their uses</span></span></span><br />\n&nbsp\;&nbsp\;&nbsp\;&nbsp\;&nbsp\;&nbsp\;&nbsp\;&nbsp\;<span style="font-family:arial\;"><span style="font-size:14px\;"><span class="LrzXr">-How to assemble a basic toolbox</span></span></span><br />\n&nbsp\;&nbsp\;&nbsp\;&nbsp\;&nbsp\;&nbsp\;&nbsp\;&nbsp\;<span style="font-family:arial\;"><span style="font-size:14px\;"><span class="LrzXr">-How to handle tools safely</span></span></span><br />\n&nbsp\;&nbsp\;&nbsp\;&nbsp\;&nbsp\;&nbsp\;&nbsp\;&nbsp\;<span style="font-family:arial\;"><span style="font-size:14px\;"><span class="LrzXr">-Which tools are right for your specific needs</span></span></span><br />\n&nbsp\;&nbsp\;&nbsp\;&nbsp\;<span style="font-family:arial\;"><span style="font-size:14px\;"><span class="LrzXr">With the right tools and a little know-how\, you can finish those small projects around the house or work on your big dream project! There will also be an opportunity to get your project questions answered and purchase the toolbox right for you!</span></span></span><br />\nSpeaker: <span style="font-size:18px\;"><strong><span style="color: rgb(50\, 49\, 48)\; font-family: Calibri\, sans-serif\;">Jess Groth\, ACE Hardware</span></strong></span><br />\n<br />\n<br />\n&nbsp\; &nbsp\; &nbsp\; &nbsp\;&nbsp\;&nbsp\;&nbsp\;&nbsp\;&nbsp\;&nbsp\;&nbsp\;&nbsp\;&nbsp\;&nbsp\;&nbsp\;
LOCATION:Sterling State Bank 1419 1st Ave SW
UID:e.343.4806
SEQUENCE:3
DTSTAMP:20260421T020739Z
URL:https://business.austincoc.com/events/details/women-s-workshop-tools-your-new-superpower-4806
END:VEVENT

END:VCALENDAR
